BEGIN:VCALENDAR
VERSION:2.0
PRODID:-//50.116.95.78//NONSGML kigkonsult.se iCalcreator 2.26.9//
CALSCALE:GREGORIAN
METHOD:PUBLISH
X-FROM-URL:https://www.icp.pr.gov
X-WR-TIMEZONE:America/Puerto_Rico
BEGIN:VTIMEZONE
TZID:America/Puerto_Rico
X-LIC-LOCATION:America/Puerto_Rico
BEGIN:STANDARD
DTSTART:19450930T020000
TZOFFSETFROM:-0300
TZOFFSETTO:-0400
TZNAME:AST
END:STANDARD
END:VTIMEZONE
BEGIN:VEVENT
UID:ai1ec-8711@www.icp.pr.gov
DTSTAMP:20210617T195540Z
CATEGORIES;LANGUAGE=es:Agosto 2018
CONTACT:Librería ICP\; 787-721-5105\; ventaymercadeo@icp.pr.gov
DESCRIPTION:
DTSTART;TZID=America/Puerto_Rico:20180809T180000
DTEND;TZID=America/Puerto_Rico:20180809T200000
GEO:+18.46766;-66.118715
LOCATION:Librerías ICP @ Galería Nacional\, Calle Norza Garay #98\, Viejo S
 an Juan\, 00901\, Puerto Rico
SEQUENCE:0
SUMMARY:Presentación del libro: Actas del 1er Coloquio sobre la muerte\, el
  morir y los muertos en PR:  Ante el espejo de la muerte
URL:https://www.icp.pr.gov/evento/presentacion-del-libro-actas-del-1er-colo
 quio-sobre-la-muerte-el-morir-y-los-muertos-en-pr-ante-el-espejo-de-la-mue
 rte/
X-COST-TYPE:free
X-TAGS;LANGUAGE=es:cultura\,ICP\,libreríasicp\,libros\,literatura\,música\,
 PuertoRico\,ViejoSanJuan
END:VEVENT
END:VCALENDAR
